View In:
ArcGIS JavaScript
ArcGIS.com Map
Google Earth
ArcMap
View Footprint In:
ArcGIS.com Map
Service Description: vila sahy
Name: TESTE/sao_sebastiao_sahy_23
Description: vila sahy
Single Fused Map Cache: false
Extent:
XMin: 420681.620350866
YMin: 7366517.348606378
XMax: 441681.620350866
YMax: 7374517.348606378
Spatial Reference: 31983
(31983)
Initial Extent:
XMin: 420681.620350866
YMin: 7366517.348606378
XMax: 441681.620350866
YMax: 7374517.348606378
Spatial Reference: 31983
(31983)
Full Extent:
XMin: 420681.620350866
YMin: 7366517.348606378
XMax: 441681.620350866
YMax: 7374517.348606378
Spatial Reference: 31983
(31983)
Pixel Size X: 0.1
Pixel Size Y: 0.1
Band Count: 3
Pixel Type: U8
RasterFunction Infos: N/A
Mensuration Capabilities: None
Has Histograms: true
Has Colormap: false
Min Scale: 0
Max Scale: 0
Copyright Text:
Service Data Type: esriImageServiceDataTypeRGB
Min Values: 26, 38, 36
Max Values: 255, 255, 255
Mean Values: 128.6085742260229, 140.72257390833363, 131.51490405522586
Standard Deviation Values: 67.81943744343907, 60.2042659912655, 65.17918671229927
Object ID Field: OBJECTID
Fields:
-
OBJECTID
(
type: esriFieldTypeOID
, alias: OBJECTID
)
-
Shape
(
type: esriFieldTypeGeometry
, alias: Shape
)
-
Name
(
type: esriFieldTypeString
, alias: Name
, length: 200
)
-
MinPS
(
type: esriFieldTypeDouble
, alias: MinPS
)
-
MaxPS
(
type: esriFieldTypeDouble
, alias: MaxPS
)
-
LowPS
(
type: esriFieldTypeDouble
, alias: LowPS
)
-
HighPS
(
type: esriFieldTypeDouble
, alias: HighPS
)
-
Category
(
type: esriFieldTypeInteger
, alias: Category
, Coded Values:
[0: Unknown]
, [1: Primary]
, [2: Overview]
, ...5 more...
)
-
Tag
(
type: esriFieldTypeString
, alias: Tag
, length: 100
)
-
GroupName
(
type: esriFieldTypeString
, alias: GroupName
, length: 100
)
-
ProductName
(
type: esriFieldTypeString
, alias: ProductName
, length: 100
)
-
CenterX
(
type: esriFieldTypeDouble
, alias: CenterX
)
-
CenterY
(
type: esriFieldTypeDouble
, alias: CenterY
)
-
ZOrder
(
type: esriFieldTypeInteger
, alias: ZOrder
)
-
Shape_Length
(
type: esriFieldTypeDouble
, alias: Shape_Length
)
-
Shape_Area
(
type: esriFieldTypeDouble
, alias: Shape_Area
)
Raster Attribute Table: false
Default Mosaic Method: Northwest
Allowed Mosaic Methods: NorthWest,Center,LockRaster,ByAttribute,Nadir,Viewpoint,Seamline,None
SortField:
SortValue: null
Mosaic Operator: First
Default Compression Quality: 75
Default Resampling Method: Bilinear
Max Record Count: 1000
Max Image Height: 4100
Max Image Width: 15000
Max Download Image Count: 20
Max Mosaic Image Count: 20
Allow Raster Function: true
Raster Type Infos:
Name: Raster Dataset
Description: Supports all ArcGIS Raster Datasets
Help:
Has Raster Attribute Table: false
Edit Fields Info: null
Ownership Based AccessControl For Rasters: null
Child Resources:
Info
Histograms
Key Properties
Supported Operations:
Export Image
Query
Identify
Compute Histograms