{
 "currentVersion": 10.11,
 "serviceDescription": "",
 "name": "TESTE/pmsp2004",
 "description": "TESTE/pmsp2004",
 "extent": {
  "xmin": 335246.9448356108,
  "ymin": 7385149.95941196,
  "xmax": 335794.9448356108,
  "ymax": 7385742.83441196,
  "spatialReference": {
   "wkid": 31983,
   "latestWkid": 31983
  }
 },
 "initialExtent": {
  "xmin": 335246.9448356108,
  "ymin": 7385149.95941196,
  "xmax": 335794.9448356108,
  "ymax": 7385742.83441196,
  "spatialReference": {
   "wkid": 31983,
   "latestWkid": 31983
  }
 },
 "fullExtent": {
  "xmin": 335246.9448356108,
  "ymin": 7385149.95941196,
  "xmax": 335794.9448356108,
  "ymax": 7385742.83441196,
  "spatialReference": {
   "wkid": 31983,
   "latestWkid": 31983
  }
 },
 "pixelSizeX": 0.125,
 "pixelSizeY": 0.125,
 "bandCount": 3,
 "pixelType": "U16",
 "minPixelSize": 0,
 "maxPixelSize": 0,
 "copyrightText": "",
 "serviceDataType": "esriImageServiceDataTypeGeneric",
 "minValues": [
  0,
  0,
  0
 ],
 "maxValues": [
  255,
  255,
  255
 ],
 "meanValues": [
  134.01959047133,
  145.50300141656,
  137.97218510265
 ],
 "stdvValues": [
  53.717762053629,
  51.619245346989,
  51.347802921571
 ],
 "objectIdField": "",
 "fields": [],
 "capabilities": "Image,Metadata,Mensuration",
 "defaultMosaicMethod": "Center",
 "allowedMosaicMethods": "",
 "sortField": "",
 "sortValue": null,
 "mosaicOperator": "First",
 "defaultCompressionQuality": 75,
 "defaultResamplingMethod": "Bilinear",
 "maxImageHeight": 4100,
 "maxImageWidth": 15000,
 "allowRasterFunction": true,
 "rasterFunctionInfos": [],
 "rasterTypeInfos": [
  {
   "name": "Raster Dataset",
   "description": "Supports all ArcGIS Raster Datasets",
   "help": ""
  }
 ],
 "mensurationCapabilities": "Basic",
 "hasHistograms": true,
 "hasColormap": false,
 "hasRasterAttributeTable": false,
 "minScale": 0,
 "maxScale": 0,
 "editFieldsInfo": null,
 "ownershipBasedAccessControlForRasters": null,
 "spatialReference": {
  "wkid": 31983,
  "latestWkid": 31983
 }
}
