View In:
ArcGIS JavaScript
ArcGIS.com Map
Google Earth
ArcMap
View Footprint In:
ArcGIS.com Map
Service Description:
Name: TESTE/pmsp2004
Description: TESTE/pmsp2004
Single Fused Map Cache: false
Extent:
XMin: 335246.9448356108
YMin: 7385149.95941196
XMax: 335794.9448356108
YMax: 7385742.83441196
Spatial Reference: 31983
(31983)
Initial Extent:
XMin: 335246.9448356108
YMin: 7385149.95941196
XMax: 335794.9448356108
YMax: 7385742.83441196
Spatial Reference: 31983
(31983)
Full Extent:
XMin: 335246.9448356108
YMin: 7385149.95941196
XMax: 335794.9448356108
YMax: 7385742.83441196
Spatial Reference: 31983
(31983)
Pixel Size X: 0.125
Pixel Size Y: 0.125
Band Count: 3
Pixel Type: U16
RasterFunction Infos: N/A
Mensuration Capabilities: Basic
Has Histograms: true
Has Colormap: false
Min Scale: 0
Max Scale: 0
Copyright Text:
Service Data Type: esriImageServiceDataTypeGeneric
Min Values: 0, 0, 0
Max Values: 255, 255, 255
Mean Values: 134.01959047133, 145.50300141656, 137.97218510265
Standard Deviation Values: 53.717762053629, 51.619245346989, 51.347802921571
Object ID Field:
Fields:
None
Raster Attribute Table: false
Default Mosaic Method: Center
Allowed Mosaic Methods:
SortField:
SortValue: null
Mosaic Operator: First
Default Compression Quality: 75
Default Resampling Method: Bilinear
Max Record Count: null
Max Image Height: 4100
Max Image Width: 15000
Max Download Image Count: null
Max Mosaic Image Count: null
Allow Raster Function: true
Raster Type Infos:
Name: Raster Dataset
Description: Supports all ArcGIS Raster Datasets
Help:
Has Raster Attribute Table: false
Edit Fields Info: null
Ownership Based AccessControl For Rasters: null
Child Resources:
Info
Histograms
Key Properties
Supported Operations:
Export Image
Identify
Measure
Compute Histograms