{
 "currentVersion": 10.11,
 "serviceDescription": "",
 "name": "TESTE/IMG_Mosaico_Planet_Trimestral_03_FevMarAbr2024",
 "description": "TESTE/IMG_Mosaico_Planet_Trimestral_03_FevMarAbr2024",
 "extent": {
  "xmin": 275184,
  "ymin": 7290213,
  "xmax": 528297,
  "ymax": 7435662,
  "spatialReference": {
   "wkid": 32723,
   "latestWkid": 32723
  }
 },
 "initialExtent": {
  "xmin": 275184,
  "ymin": 7290213,
  "xmax": 528297,
  "ymax": 7435662,
  "spatialReference": {
   "wkid": 32723,
   "latestWkid": 32723
  }
 },
 "fullExtent": {
  "xmin": 275184,
  "ymin": 7290213,
  "xmax": 528297,
  "ymax": 7435662,
  "spatialReference": {
   "wkid": 32723,
   "latestWkid": 32723
  }
 },
 "pixelSizeX": 3,
 "pixelSizeY": 3,
 "bandCount": 4,
 "pixelType": "U8",
 "minPixelSize": 0,
 "maxPixelSize": 0,
 "copyrightText": "",
 "serviceDataType": "esriImageServiceDataTypeGeneric",
 "minValues": [
  0,
  0,
  0,
  0
 ],
 "maxValues": [
  255,
  255,
  255,
  255
 ],
 "meanValues": [
  13.77653227726,
  14.440654062401,
  13.893754195529,
  87.549195025273
 ],
 "stdvValues": [
  35.926595410466,
  30.624654734821,
  27.443461411478,
  121.07924341299
 ],
 "objectIdField": "",
 "fields": [],
 "capabilities": "Image,Metadata,Mensuration",
 "defaultMosaicMethod": "Center",
 "allowedMosaicMethods": "",
 "sortField": "",
 "sortValue": null,
 "mosaicOperator": "First",
 "defaultCompressionQuality": 75,
 "defaultResamplingMethod": "Bilinear",
 "maxImageHeight": 4100,
 "maxImageWidth": 15000,
 "allowRasterFunction": true,
 "rasterFunctionInfos": [],
 "rasterTypeInfos": [
  {
   "name": "Raster Dataset",
   "description": "Supports all ArcGIS Raster Datasets",
   "help": ""
  }
 ],
 "mensurationCapabilities": "Basic",
 "hasHistograms": false,
 "hasColormap": false,
 "hasRasterAttributeTable": false,
 "minScale": 0,
 "maxScale": 0,
 "editFieldsInfo": null,
 "ownershipBasedAccessControlForRasters": null,
 "spatialReference": {
  "wkid": 32723,
  "latestWkid": 32723
 }
}
