View In:
ArcGIS JavaScript
ArcGIS.com Map
Google Earth
ArcMap
View Footprint In:
ArcGIS.com Map
Service Description:
Name: TESTE/IMG_Mosaico_Planet_Trimestral_03_FevMarAbr2024
Description: TESTE/IMG_Mosaico_Planet_Trimestral_03_FevMarAbr2024
Single Fused Map Cache: false
Extent:
XMin: 275184
YMin: 7290213
XMax: 528297
YMax: 7435662
Spatial Reference: 32723
(32723)
Initial Extent:
XMin: 275184
YMin: 7290213
XMax: 528297
YMax: 7435662
Spatial Reference: 32723
(32723)
Full Extent:
XMin: 275184
YMin: 7290213
XMax: 528297
YMax: 7435662
Spatial Reference: 32723
(32723)
Pixel Size X: 3.0
Pixel Size Y: 3.0
Band Count: 4
Pixel Type: U8
RasterFunction Infos: N/A
Mensuration Capabilities: Basic
Has Histograms: false
Has Colormap: false
Min Scale: 0
Max Scale: 0
Copyright Text:
Service Data Type: esriImageServiceDataTypeGeneric
Min Values: 0, 0, 0, 0
Max Values: 255, 255, 255, 255
Mean Values: 13.77653227726, 14.440654062401, 13.893754195529, 87.549195025273
Standard Deviation Values: 35.926595410466, 30.624654734821, 27.443461411478, 121.07924341299
Object ID Field:
Fields:
None
Raster Attribute Table: false
Default Mosaic Method: Center
Allowed Mosaic Methods:
SortField:
SortValue: null
Mosaic Operator: First
Default Compression Quality: 75
Default Resampling Method: Bilinear
Max Record Count: null
Max Image Height: 4100
Max Image Width: 15000
Max Download Image Count: null
Max Mosaic Image Count: null
Allow Raster Function: true
Raster Type Infos:
Name: Raster Dataset
Description: Supports all ArcGIS Raster Datasets
Help:
Has Raster Attribute Table: false
Edit Fields Info: null
Ownership Based AccessControl For Rasters: null
Child Resources:
Info
Key Properties
Supported Operations:
Export Image
Identify
Measure
Compute Histograms