{
 "currentVersion": 10.11,
 "serviceDescription": "Mapa Geral do Estado de São Paulo - IGC",
 "mapName": "GeoPortal",
 "description": "",
 "copyrightText": "IGC",
 "supportsDynamicLayers": false,
 "layers": [
  {
   "id": 0,
   "name": "Toponímias",
   "parentLayerId": -1,
   "defaultVisibility": true,
   "subLayerIds": [
    1
   ],
   "minScale": 0,
   "maxScale": 450000
  },
  {
   "id": 1,
   "name": "Default",
   "parentLayerId": 0,
   "defaultVisibility": true,
   "subLayerIds": null,
   "minScale": 0,
   "maxScale": 0
  },
  {
   "id": 2,
   "name": "Sedes",
   "parentLayerId": -1,
   "defaultVisibility": true,
   "subLayerIds": null,
   "minScale": 0,
   "maxScale": 450000
  }
 ],
 "tables": [
  {
   "id": 3,
   "name": "GEOPORTAL.REGIONALIZACAO_2014"
  }
 ],
 "spatialReference": {
  "wkid": 4674,
  "latestWkid": 4674
 },
 "singleFusedMapCache": true,
 "tileInfo": {
  "rows": 256,
  "cols": 256,
  "dpi": 96,
  "format": "Mixed",
  "compressionQuality": 75,
  "origin": {
   "x": -400,
   "y": 399.9999999999998
  },
  "spatialReference": {
   "wkid": 4674,
   "latestWkid": 4674
  },
  "lods": [
   {
    "level": 0,
    "resolution": 0.00118973050291514,
    "scale": 500000
   }
  ]
 },
 "initialExtent": {
  "xmin": -47.92919990883069,
  "ymin": -23.02076393732139,
  "xmax": -46.25881828273783,
  "ymax": -22.2593364154557,
  "spatialReference": {
   "cs": "gcs",
   "wkid": 4674
  }
 },
 "fullExtent": {
  "xmin": -47.92919990883069,
  "ymin": -23.38244201020759,
  "xmax": -46.25881828273783,
  "ymax": -22.2593364154557,
  "spatialReference": {
   "cs": "gcs",
   "wkid": 4674
  }
 },
 "minScale": 500000,
 "maxScale": 500000,
 "units": "esriDecimalDegrees",
 "supportedImageFormatTypes": "PNG32,PNG24,PNG,JPG,DIB,TIFF,EMF,PS,PDF,GIF,SVG,SVGZ,BMP",
 "documentInfo": {
  "Title": "",
  "Author": "",
  "Comments": "Mapa Geral do Estado de São Paulo - IGC",
  "Subject": "Mapa Geral do Estado de São Paulo - IGC",
  "Category": "",
  "AntialiasingMode": "None",
  "TextAntialiasingMode": "Force",
  "Keywords": "Mapa Geral do Estado de São Paulo - IGC"
 },
 "capabilities": "Map,Query,Data",
 "supportedQueryFormats": "JSON, AMF",
 "hasVersionedData": true,
 "maxRecordCount": 1000,
 "maxImageHeight": 2048,
 "maxImageWidth": 2048
}
