{
 "currentVersion": 10.11,
 "serviceDescription": "Mapa de apresentação das toponímias a serem utilizadas em conjunto com o mapa geral do GeoPortal",
 "mapName": "GeoPortal-Toponímias",
 "description": "",
 "copyrightText": "IGC",
 "supportsDynamicLayers": false,
 "layers": [
  {
   "id": 0,
   "name": "Cidades",
   "parentLayerId": -1,
   "defaultVisibility": true,
   "subLayerIds": null,
   "minScale": 1000000,
   "maxScale": 0
  },
  {
   "id": 1,
   "name": "Localidades",
   "parentLayerId": -1,
   "defaultVisibility": false,
   "subLayerIds": null,
   "minScale": 250000,
   "maxScale": 0
  },
  {
   "id": 2,
   "name": "UF - Estágio 1",
   "parentLayerId": -1,
   "defaultVisibility": true,
   "subLayerIds": null,
   "minScale": 0,
   "maxScale": 1000001
  },
  {
   "id": 3,
   "name": "UF - Estágio 2",
   "parentLayerId": -1,
   "defaultVisibility": true,
   "subLayerIds": null,
   "minScale": 1000000,
   "maxScale": 100000
  }
 ],
 "tables": [],
 "spatialReference": {
  "wkid": 4674,
  "latestWkid": 4674
 },
 "singleFusedMapCache": true,
 "tileInfo": {
  "rows": 256,
  "cols": 256,
  "dpi": 96,
  "format": "Mixed",
  "compressionQuality": 55,
  "origin": {
   "x": -400,
   "y": 399.9999999999998
  },
  "spatialReference": {
   "wkid": 4674,
   "latestWkid": 4674
  },
  "lods": [
   {
    "level": 0,
    "resolution": 0.00951784402332112,
    "scale": 4000000
   },
   {
    "level": 1,
    "resolution": 0.00832811352040598,
    "scale": 3500000
   },
   {
    "level": 2,
    "resolution": 0.007138383017490841,
    "scale": 3000000
   },
   {
    "level": 3,
    "resolution": 0.00475892201166056,
    "scale": 2000000
   },
   {
    "level": 4,
    "resolution": 0.00237946100583028,
    "scale": 1000000
   },
   {
    "level": 5,
    "resolution": 0.00118973050291514,
    "scale": 500000
   },
   {
    "level": 6,
    "resolution": 5.9486525145757E-4,
    "scale": 250000
   },
   {
    "level": 7,
    "resolution": 2.3794610058302802E-4,
    "scale": 100000
   },
   {
    "level": 8,
    "resolution": 1.1897305029151401E-4,
    "scale": 50000
   },
   {
    "level": 9,
    "resolution": 5.9486525145757005E-5,
    "scale": 25000
   },
   {
    "level": 10,
    "resolution": 2.3794610058302804E-5,
    "scale": 10000
   },
   {
    "level": 11,
    "resolution": 1.1897305029151402E-5,
    "scale": 5000
   },
   {
    "level": 12,
    "resolution": 5.948652514575701E-6,
    "scale": 2500
   },
   {
    "level": 13,
    "resolution": 2.37946100583028E-6,
    "scale": 1000
   }
  ]
 },
 "initialExtent": {
  "xmin": -54.950347710348204,
  "ymin": -22.53093225470406,
  "xmax": -42.422485514651775,
  "ymax": -18.747589255433912,
  "spatialReference": {
   "cs": "gcs",
   "wkid": 4674
  }
 },
 "fullExtent": {
  "xmin": -53.45485646818388,
  "ymin": -26.35948501308498,
  "xmax": -43.91797675681612,
  "ymax": -18.53581722591502,
  "spatialReference": {
   "cs": "gcs",
   "wkid": 4674
  }
 },
 "minScale": 4000000,
 "maxScale": 1000,
 "units": "esriDecimalDegrees",
 "supportedImageFormatTypes": "PNG32,PNG24,PNG,JPG,DIB,TIFF,EMF,PS,PDF,GIF,SVG,SVGZ,BMP",
 "documentInfo": {
  "Title": "Toponímias do Mapa Geral GeoPortal",
  "Author": "IGC",
  "Comments": "Mapa de apresentação das toponímias a serem utilizadas em conjunto com o mapa geral do GeoPortal",
  "Subject": "Toponímias das UF, das Cidades e Localidades",
  "Category": "",
  "AntialiasingMode": "None",
  "TextAntialiasingMode": "Force",
  "Keywords": "Toponímias do Mapa Geral GeoPortal"
 },
 "capabilities": "Map",
 "supportedQueryFormats": "JSON, AMF",
 "hasVersionedData": true,
 "maxRecordCount": 1000,
 "maxImageHeight": 2048,
 "maxImageWidth": 2048
}
