View In:
ArcGIS JavaScript
ArcGIS.com Map
Google Earth
ArcMap
View Footprint In:
ArcGIS.com Map
Service Description: Ortofotos obtidas a partir do recobrimento aerofotogramétrico no ano de 2010.
Name: IGC/GeoPortal_Ortofotos_Mapeamento2010_ImgSrv
Description: Ortofotos obtidas a partir do recobrimento aerofotogramétrico no ano de 2010.
Single Fused Map Cache: true
Tile Info:
- Height: 256
- Width: 256
- DPI: 96
-
Levels of Detail: 14
- Format: Mixed
- Compression Quality: 75.0
- Origin: X: -400.0
Y: 400.0
- Spatial Reference: 4674
(4674)
Extent:
XMin: -48.043752360999974
YMin: -25.265690089666972
XMax: -44.090380105787574
YMax: -19.924162171999928
Spatial Reference: 4674
(4674)
Initial Extent:
XMin: -48.043752360999974
YMin: -25.265690089666972
XMax: -44.090380105787574
YMax: -19.924162171999928
Spatial Reference: 4674
(4674)
Full Extent:
XMin: -48.043752360999974
YMin: -25.265690089666972
XMax: -44.090380105787574
YMax: -19.924162171999928
Spatial Reference: 4674
(4674)
Pixel Size X: 3.405138195465986E-6
Pixel Size Y: 3.405138195465987E-6
Band Count: 3
Pixel Type: U8
RasterFunction Infos: N/A
Mensuration Capabilities: None
Has Histograms: true
Has Colormap: false
Min Scale: 4000000
Max Scale: 1000
Copyright Text: IGC
Service Data Type: esriImageServiceDataTypeRGB
Min Values: 0, 0, 0
Max Values: 255, 255, 255
Mean Values: 137.8094370522466, 134.75706914020114, 119.60547604231488
Standard Deviation Values: 34.167508987745464, 28.954569423948804, 26.1844668793536
Object ID Field: OBJECTID
Fields:
-
OBJECTID
(
type: esriFieldTypeOID
, alias: OBJECTID
)
-
Shape
(
type: esriFieldTypeGeometry
, alias: Shape
)
-
Name
(
type: esriFieldTypeString
, alias: Name
, length: 50
)
-
MinPS
(
type: esriFieldTypeDouble
, alias: MinPS
)
-
MaxPS
(
type: esriFieldTypeDouble
, alias: MaxPS
)
-
LowPS
(
type: esriFieldTypeDouble
, alias: LowPS
)
-
HighPS
(
type: esriFieldTypeDouble
, alias: HighPS
)
-
Category
(
type: esriFieldTypeInteger
, alias: Category
, Coded Values:
[0: Unknown]
, [1: Primary]
, [2: Overview]
, ...5 more...
)
-
Tag
(
type: esriFieldTypeString
, alias: Tag
, length: 20
)
-
GroupName
(
type: esriFieldTypeString
, alias: GroupName
, length: 50
)
-
ProductName
(
type: esriFieldTypeString
, alias: ProductName
, length: 50
)
-
CenterX
(
type: esriFieldTypeDouble
, alias: CenterX
)
-
CenterY
(
type: esriFieldTypeDouble
, alias: CenterY
)
-
ZOrder
(
type: esriFieldTypeInteger
, alias: ZOrder
)
-
Shape_Length
(
type: esriFieldTypeDouble
, alias: Shape_Length
)
-
Shape_Area
(
type: esriFieldTypeDouble
, alias: Shape_Area
)
Raster Attribute Table: false
Default Mosaic Method: Northwest
Allowed Mosaic Methods: NorthWest,Center,LockRaster,ByAttribute,Nadir,Viewpoint,Seamline,None
SortField:
SortValue: null
Mosaic Operator: First
Default Compression Quality: 75
Default Resampling Method: Bilinear
Max Record Count: 1000
Max Image Height: 4100
Max Image Width: 15000
Max Download Image Count: 20
Max Mosaic Image Count: 20
Allow Raster Function: true
Raster Type Infos:
Name: Raster Dataset
Description: Supports all ArcGIS Raster Datasets
Help:
Has Raster Attribute Table: false
Edit Fields Info: null
Ownership Based AccessControl For Rasters: null
Child Resources:
Info
Histograms
Key Properties
Supported Operations:
Export Image
Query
Identify
Compute Histograms