{
 "currentVersion": 10.11,
 "serviceDescription": "Ortofotos geradas no Levantamento AGEM Baixada nos anos 2001/02.",
 "name": "IGC/GeoPortal_Ortofotos_AgemBaixada_ImgSrv",
 "description": "Ortofotos geradas no Levantamento AGEM Baixada nos anos 2001/02.",
 "extent": {
  "xmin": -47.122536252999964,
  "ymin": -24.44829794362221,
  "xmax": -45.749921580132586,
  "ymax": -23.624870156999933,
  "spatialReference": {
   "wkid": 4674,
   "latestWkid": 4674
  }
 },
 "initialExtent": {
  "xmin": -47.122536252999964,
  "ymin": -24.44829794362221,
  "xmax": -45.749921580132586,
  "ymax": -23.624870156999933,
  "spatialReference": {
   "wkid": 4674,
   "latestWkid": 4674
  }
 },
 "fullExtent": {
  "xmin": -47.122536252999964,
  "ymin": -24.44829794362221,
  "xmax": -45.749921580132586,
  "ymax": -23.624870156999933,
  "spatialReference": {
   "wkid": 4674,
   "latestWkid": 4674
  }
 },
 "pixelSizeX": 4.669440336060643E-6,
 "pixelSizeY": 4.669440336060649E-6,
 "bandCount": 3,
 "pixelType": "U8",
 "minPixelSize": 2.37946100583028E-6,
 "maxPixelSize": 0.00951784402332112,
 "copyrightText": "IGC",
 "serviceDataType": "esriImageServiceDataTypeRGB",
 "minValues": [
  0,
  0,
  0
 ],
 "maxValues": [
  255,
  255,
  255
 ],
 "meanValues": [
  93.91835974380567,
  110.59714205516855,
  91.142361376917
 ],
 "stdvValues": [
  39.94977255453265,
  38.459754193231134,
  34.59378694915255
 ],
 "objectIdField": "OBJECTID",
 "fields": [
  {
   "name": "OBJECTID",
   "type": "esriFieldTypeOID",
   "alias": "OBJECTID",
   "domain": null
  },
  {
   "name": "Shape",
   "type": "esriFieldTypeGeometry",
   "alias": "Shape",
   "domain": null
  },
  {
   "name": "Name",
   "type": "esriFieldTypeString",
   "alias": "Name",
   "domain": null,
   "length": 50
  },
  {
   "name": "MinPS",
   "type": "esriFieldTypeDouble",
   "alias": "MinPS",
   "domain": null
  },
  {
   "name": "MaxPS",
   "type": "esriFieldTypeDouble",
   "alias": "MaxPS",
   "domain": null
  },
  {
   "name": "LowPS",
   "type": "esriFieldTypeDouble",
   "alias": "LowPS",
   "domain": null
  },
  {
   "name": "HighPS",
   "type": "esriFieldTypeDouble",
   "alias": "HighPS",
   "domain": null
  },
  {
   "name": "Category",
   "type": "esriFieldTypeInteger",
   "alias": "Category",
   "domain": {
    "type": "codedValue",
    "name": "MosaicCatalogItemCategoryDomain",
    "codedValues": [
     {
      "name": "Unknown",
      "code": 0
     },
     {
      "name": "Primary",
      "code": 1
     },
     {
      "name": "Overview",
      "code": 2
     },
     {
      "name": "Unprocessed Overview",
      "code": 3
     },
     {
      "name": "Partial Overview",
      "code": 4
     },
     {
      "name": "Uploaded",
      "code": 253
     },
     {
      "name": "Incomplete",
      "code": 254
     },
     {
      "name": "Custom",
      "code": 255
     }
    ]
   }
  },
  {
   "name": "Tag",
   "type": "esriFieldTypeString",
   "alias": "Tag",
   "domain": null,
   "length": 20
  },
  {
   "name": "GroupName",
   "type": "esriFieldTypeString",
   "alias": "GroupName",
   "domain": null,
   "length": 50
  },
  {
   "name": "ProductName",
   "type": "esriFieldTypeString",
   "alias": "ProductName",
   "domain": null,
   "length": 50
  },
  {
   "name": "CenterX",
   "type": "esriFieldTypeDouble",
   "alias": "CenterX",
   "domain": null
  },
  {
   "name": "CenterY",
   "type": "esriFieldTypeDouble",
   "alias": "CenterY",
   "domain": null
  },
  {
   "name": "ZOrder",
   "type": "esriFieldTypeInteger",
   "alias": "ZOrder",
   "domain": null
  },
  {
   "name": "Shape_Length",
   "type": "esriFieldTypeDouble",
   "alias": "Shape_Length",
   "domain": null
  },
  {
   "name": "Shape_Area",
   "type": "esriFieldTypeDouble",
   "alias": "Shape_Area",
   "domain": null
  }
 ],
 "capabilities": "Image,Metadata,Catalog,Mensuration",
 "defaultMosaicMethod": "Northwest",
 "allowedMosaicMethods": "NorthWest,Center,LockRaster,ByAttribute,Nadir,Viewpoint,Seamline,None",
 "sortField": "",
 "sortValue": null,
 "mosaicOperator": "First",
 "defaultCompressionQuality": 75,
 "defaultResamplingMethod": "Bilinear",
 "maxImageHeight": 4100,
 "maxImageWidth": 15000,
 "maxRecordCount": 1000,
 "maxDownloadImageCount": 20,
 "maxDownloadSizeLimit": 2048,
 "maxMosaicImageCount": 20,
 "singleFusedMapCache": true,
 "tileInfo": {
  "rows": 256,
  "cols": 256,
  "dpi": 96,
  "format": "Mixed",
  "compressionQuality": 75,
  "origin": {
   "x": -400,
   "y": 400
  },
  "spatialReference": {
   "wkid": 4674,
   "latestWkid": 4674
  },
  "lods": [
   {
    "level": 0,
    "resolution": 0.00951784402332112,
    "scale": 4000000
   },
   {
    "level": 1,
    "resolution": 0.00832811352040598,
    "scale": 3500000
   },
   {
    "level": 2,
    "resolution": 0.007138383017490841,
    "scale": 3000000
   },
   {
    "level": 3,
    "resolution": 0.00475892201166056,
    "scale": 2000000
   },
   {
    "level": 4,
    "resolution": 0.00237946100583028,
    "scale": 1000000
   },
   {
    "level": 5,
    "resolution": 0.00118973050291514,
    "scale": 500000
   },
   {
    "level": 6,
    "resolution": 5.9486525145757E-4,
    "scale": 250000
   },
   {
    "level": 7,
    "resolution": 2.3794610058302802E-4,
    "scale": 100000
   },
   {
    "level": 8,
    "resolution": 1.1897305029151401E-4,
    "scale": 50000
   },
   {
    "level": 9,
    "resolution": 5.9486525145757005E-5,
    "scale": 25000
   },
   {
    "level": 10,
    "resolution": 2.3794610058302804E-5,
    "scale": 10000
   },
   {
    "level": 11,
    "resolution": 1.1897305029151402E-5,
    "scale": 5000
   },
   {
    "level": 12,
    "resolution": 5.948652514575701E-6,
    "scale": 2500
   },
   {
    "level": 13,
    "resolution": 2.37946100583028E-6,
    "scale": 1000
   }
  ]
 },
 "allowRasterFunction": true,
 "rasterFunctionInfos": [],
 "rasterTypeInfos": [
  {
   "name": "Raster Dataset",
   "description": "Supports all ArcGIS Raster Datasets",
   "help": ""
  }
 ],
 "mensurationCapabilities": "None,Basic",
 "hasHistograms": true,
 "hasColormap": false,
 "hasRasterAttributeTable": false,
 "minScale": 4000000,
 "maxScale": 1000,
 "editFieldsInfo": null,
 "ownershipBasedAccessControlForRasters": null,
 "spatialReference": {
  "wkid": 4674,
  "latestWkid": 4674
 }
}
