{
 "currentVersion": 10.11,
 "serviceDescription": "",
 "mapName": "GeoPortal",
 "description": "",
 "copyrightText": "",
 "supportsDynamicLayers": false,
 "layers": [
  {
   "id": 0,
   "name": "Hidrografia",
   "parentLayerId": -1,
   "defaultVisibility": true,
   "subLayerIds": [
    1
   ],
   "minScale": 0,
   "maxScale": 0
  },
  {
   "id": 1,
   "name": "Massa D'Água",
   "parentLayerId": 0,
   "defaultVisibility": true,
   "subLayerIds": null,
   "minScale": 0,
   "maxScale": 50000
  },
  {
   "id": 2,
   "name": "Mancha Urbana",
   "parentLayerId": -1,
   "defaultVisibility": true,
   "subLayerIds": null,
   "minScale": 1000000,
   "maxScale": 0
  },
  {
   "id": 3,
   "name": "Municípios",
   "parentLayerId": -1,
   "defaultVisibility": true,
   "subLayerIds": [
    4,
    5
   ],
   "minScale": 0,
   "maxScale": 0
  },
  {
   "id": 4,
   "name": "Municípios - Estagio 1",
   "parentLayerId": 3,
   "defaultVisibility": true,
   "subLayerIds": null,
   "minScale": 0,
   "maxScale": 2000000
  },
  {
   "id": 5,
   "name": "Municípios - Estagio 2",
   "parentLayerId": 3,
   "defaultVisibility": true,
   "subLayerIds": null,
   "minScale": 1999999,
   "maxScale": 0
  },
  {
   "id": 6,
   "name": "MDE",
   "parentLayerId": -1,
   "defaultVisibility": true,
   "subLayerIds": null,
   "minScale": 0,
   "maxScale": 250000
  }
 ],
 "tables": [],
 "spatialReference": {
  "wkid": 4674,
  "latestWkid": 4674
 },
 "singleFusedMapCache": true,
 "tileInfo": {
  "rows": 256,
  "cols": 256,
  "dpi": 96,
  "format": "PNG",
  "compressionQuality": 0,
  "origin": {
   "x": -400,
   "y": 399.9999999999998
  },
  "spatialReference": {
   "wkid": 4674,
   "latestWkid": 4674
  },
  "lods": [
   {
    "level": 0,
    "resolution": 0.00951784402332112,
    "scale": 4000000
   },
   {
    "level": 1,
    "resolution": 0.00475892201166056,
    "scale": 2000000
   },
   {
    "level": 2,
    "resolution": 0.00237946100583028,
    "scale": 1000000
   },
   {
    "level": 3,
    "resolution": 0.00118973050291514,
    "scale": 500000
   },
   {
    "level": 4,
    "resolution": 5.9486525145757E-4,
    "scale": 250000
   },
   {
    "level": 5,
    "resolution": 2.3794610058302802E-4,
    "scale": 100000
   },
   {
    "level": 6,
    "resolution": 1.1897305029151401E-4,
    "scale": 50000
   }
  ]
 },
 "initialExtent": {
  "xmin": -53.551947193850005,
  "ymin": -24.25242822843196,
  "xmax": -43.716323883150004,
  "ymax": -18.327950428866025,
  "spatialReference": {
   "cs": "gcs",
   "wkid": 4674
  }
 },
 "fullExtent": {
  "xmin": -53.09324546342595,
  "ymin": -25.908954190244017,
  "xmax": -44.17502561357406,
  "ymax": -19.179838465755985,
  "spatialReference": {
   "cs": "gcs",
   "wkid": 4674
  }
 },
 "minScale": 4000000,
 "maxScale": 50000,
 "units": "esriDecimalDegrees",
 "supportedImageFormatTypes": "PNG32,PNG24,PNG,JPG,DIB,TIFF,EMF,PS,PDF,GIF,SVG,SVGZ,BMP",
 "documentInfo": {
  "Title": "",
  "Author": "",
  "Comments": "",
  "Subject": "",
  "Category": "",
  "AntialiasingMode": "None",
  "TextAntialiasingMode": "Force",
  "Keywords": ""
 },
 "capabilities": "Map,Query,Data",
 "supportedQueryFormats": "JSON, AMF",
 "hasVersionedData": true,
 "maxRecordCount": 1000,
 "maxImageHeight": 2048,
 "maxImageWidth": 2048
}
