{
 "currentVersion": 10.11,
 "serviceDescription": "Mapa Geral do Estado de São Paulo - IGC",
 "mapName": "GeoPortal",
 "description": "",
 "copyrightText": "IGC",
 "supportsDynamicLayers": false,
 "layers": [
  {
   "id": 0,
   "name": "Hidrografia",
   "parentLayerId": -1,
   "defaultVisibility": true,
   "subLayerIds": [
    1
   ],
   "minScale": 0,
   "maxScale": 0
  },
  {
   "id": 1,
   "name": "Massa D'Água",
   "parentLayerId": 0,
   "defaultVisibility": true,
   "subLayerIds": null,
   "minScale": 0,
   "maxScale": 50000
  },
  {
   "id": 2,
   "name": "Mancha Urbana",
   "parentLayerId": -1,
   "defaultVisibility": true,
   "subLayerIds": null,
   "minScale": 1000000,
   "maxScale": 0
  },
  {
   "id": 3,
   "name": "Municípios",
   "parentLayerId": -1,
   "defaultVisibility": true,
   "subLayerIds": [
    4,
    5
   ],
   "minScale": 0,
   "maxScale": 0
  },
  {
   "id": 4,
   "name": "Municípios - Estagio 1",
   "parentLayerId": 3,
   "defaultVisibility": true,
   "subLayerIds": null,
   "minScale": 0,
   "maxScale": 500000
  },
  {
   "id": 5,
   "name": "Municípios - Estagio 2",
   "parentLayerId": 3,
   "defaultVisibility": true,
   "subLayerIds": null,
   "minScale": 499999,
   "maxScale": 0
  },
  {
   "id": 6,
   "name": "MDE",
   "parentLayerId": -1,
   "defaultVisibility": true,
   "subLayerIds": null,
   "minScale": 0,
   "maxScale": 250000
  }
 ],
 "tables": [],
 "spatialReference": {
  "wkid": 4674,
  "latestWkid": 4674
 },
 "singleFusedMapCache": true,
 "tileInfo": {
  "rows": 256,
  "cols": 256,
  "dpi": 96,
  "format": "JPEG",
  "compressionQuality": 55,
  "origin": {
   "x": -400,
   "y": 400
  },
  "spatialReference": {
   "wkid": 4674,
   "latestWkid": 4674
  },
  "lods": [
   {
    "level": 0,
    "resolution": 0.00951784402332112,
    "scale": 4000000
   },
   {
    "level": 1,
    "resolution": 0.00832811352040598,
    "scale": 3500000
   },
   {
    "level": 2,
    "resolution": 0.007138383017490841,
    "scale": 3000000
   },
   {
    "level": 3,
    "resolution": 0.00475892201166056,
    "scale": 2000000
   },
   {
    "level": 4,
    "resolution": 0.00237946100583028,
    "scale": 1000000
   },
   {
    "level": 5,
    "resolution": 0.00118973050291514,
    "scale": 500000
   },
   {
    "level": 6,
    "resolution": 5.9486525145757E-4,
    "scale": 250000
   },
   {
    "level": 7,
    "resolution": 2.3794610058302802E-4,
    "scale": 100000
   },
   {
    "level": 8,
    "resolution": 1.1897305029151401E-4,
    "scale": 50000
   },
   {
    "level": 9,
    "resolution": 5.9486525145757005E-5,
    "scale": 25000
   },
   {
    "level": 10,
    "resolution": 2.3794610058302804E-5,
    "scale": 10000
   },
   {
    "level": 11,
    "resolution": 1.1897305029151402E-5,
    "scale": 5000
   },
   {
    "level": 12,
    "resolution": 5.948652514575701E-6,
    "scale": 2500
   },
   {
    "level": 13,
    "resolution": 2.37946100583028E-6,
    "scale": 1000
   }
  ]
 },
 "initialExtent": {
  "xmin": -58.395470161926326,
  "ymin": -25.138999278866287,
  "xmax": -39.26460367505088,
  "ymax": -15.012013238052612,
  "spatialReference": {
   "cs": "gcs",
   "wkid": 4674
  }
 },
 "fullExtent": {
  "xmin": -58.39547016192633,
  "ymin": -30.92584844504553,
  "xmax": -39.26460367505088,
  "ymax": -15.012013238052612,
  "spatialReference": {
   "cs": "gcs",
   "wkid": 4674
  }
 },
 "minScale": 4000000,
 "maxScale": 1000,
 "units": "esriDecimalDegrees",
 "supportedImageFormatTypes": "PNG32,PNG24,PNG,JPG,DIB,TIFF,EMF,PS,PDF,GIF,SVG,SVGZ,BMP",
 "documentInfo": {
  "Title": "",
  "Author": "",
  "Comments": "Mapa Geral do Estado de São Paulo - IGC",
  "Subject": "Mapa Geral do Estado de São Paulo - IGC",
  "Category": "",
  "AntialiasingMode": "None",
  "TextAntialiasingMode": "Force",
  "Keywords": "Mapa Geral do Estado de São Paulo - IGC"
 },
 "capabilities": "Map,Query,Data",
 "supportedQueryFormats": "JSON, AMF",
 "hasVersionedData": true,
 "maxRecordCount": 1000,
 "maxImageHeight": 2048,
 "maxImageWidth": 2048
}
