View In:
ArcGIS JavaScript
ArcGIS.com Map
Google Earth
ArcMap
View Footprint In:
ArcGIS.com Map
Service Description: Fotografias históricas da região do Ipiranga na cidade de São Paulo em 1954
Name: IGC/GeoPortal_FotografiasHistoricas_Ipiranga_54
Description: Fotografias históricas da região do Ipiranga na cidade de São Paulo em 1954
Single Fused Map Cache: true
Tile Info:
- Height: 256
- Width: 256
- DPI: 96
-
Levels of Detail: 14
- Format: Mixed
- Compression Quality: 75.0
- Origin: X: -400.0
Y: 400.0
- Spatial Reference: 4674
(4674)
Extent:
XMin: -46.626873717999956
YMin: -23.607699904174346
XMax: -46.573975614599206
YMax: -23.56378344499995
Spatial Reference: 4674
(4674)
Initial Extent:
XMin: -46.626873717999956
YMin: -23.607699904174346
XMax: -46.573975614599206
YMax: -23.56378344499995
Spatial Reference: 4674
(4674)
Full Extent:
XMin: -46.626873717999956
YMin: -23.607699904174346
XMax: -46.573975614599206
YMax: -23.56378344499995
Spatial Reference: 4674
(4674)
Pixel Size X: 6.1985122335071566E-6
Pixel Size Y: 6.1985122335070515E-6
Band Count: 3
Pixel Type: U8
RasterFunction Infos: N/A
Mensuration Capabilities: None,Basic
Has Histograms: true
Has Colormap: false
Min Scale: 4000000
Max Scale: 1000
Copyright Text: IGC
Service Data Type: esriImageServiceDataTypeRGB
Min Values: 0, 0, 0
Max Values: 236, 230, 211
Mean Values: 152.12841659838043, 143.46755662710797, 127.62079282682296
Standard Deviation Values: 33.96649689554303, 32.05484810584126, 26.872455909314642
Object ID Field: OBJECTID
Fields:
-
OBJECTID
(
type: esriFieldTypeOID
, alias: OBJECTID
)
-
Shape
(
type: esriFieldTypeGeometry
, alias: Shape
)
-
Name
(
type: esriFieldTypeString
, alias: Name
, length: 50
)
-
MinPS
(
type: esriFieldTypeDouble
, alias: MinPS
)
-
MaxPS
(
type: esriFieldTypeDouble
, alias: MaxPS
)
-
LowPS
(
type: esriFieldTypeDouble
, alias: LowPS
)
-
HighPS
(
type: esriFieldTypeDouble
, alias: HighPS
)
-
Category
(
type: esriFieldTypeInteger
, alias: Category
, Coded Values:
[0: Unknown]
, [1: Primary]
, [2: Overview]
, ...5 more...
)
-
Tag
(
type: esriFieldTypeString
, alias: Tag
, length: 20
)
-
GroupName
(
type: esriFieldTypeString
, alias: GroupName
, length: 50
)
-
ProductName
(
type: esriFieldTypeString
, alias: ProductName
, length: 50
)
-
CenterX
(
type: esriFieldTypeDouble
, alias: CenterX
)
-
CenterY
(
type: esriFieldTypeDouble
, alias: CenterY
)
-
ZOrder
(
type: esriFieldTypeInteger
, alias: ZOrder
)
-
Shape_Length
(
type: esriFieldTypeDouble
, alias: Shape_Length
)
-
Shape_Area
(
type: esriFieldTypeDouble
, alias: Shape_Area
)
Raster Attribute Table: false
Default Mosaic Method: Northwest
Allowed Mosaic Methods: NorthWest,Center,LockRaster,ByAttribute,Nadir,Viewpoint,Seamline,None
SortField:
SortValue: null
Mosaic Operator: First
Default Compression Quality: 75
Default Resampling Method: Bilinear
Max Record Count: 1000
Max Image Height: 4100
Max Image Width: 15000
Max Download Image Count: 20
Max Mosaic Image Count: 20
Allow Raster Function: true
Raster Type Infos:
Name: Raster Dataset
Description: Supports all ArcGIS Raster Datasets
Help:
Has Raster Attribute Table: false
Edit Fields Info: null
Ownership Based AccessControl For Rasters: null
Child Resources:
Info
Histograms
Key Properties
Supported Operations:
Export Image
Query
Identify
Measure
Compute Histograms