View In:
ArcGIS JavaScript
ArcGIS.com Map
Google Earth
ArcMap
View Footprint In:
ArcGIS.com Map
Service Description:
Name: IGC/GeoPortal_Cartas_Topograficas_RMC_Moji_Mirim_ImgSrv
Description: IGC/GeoPortal_Cartas_Topograficas_RMC_Moji_Mirim_ImgSrv
Single Fused Map Cache: false
Extent:
XMin: -47.5629690317
YMin: -23.250435961700006
XMax: -46.6254559685
YMax: -22.292100071300002
Spatial Reference: 4674
(4674)
Initial Extent:
XMin: -47.5629690317
YMin: -23.250435961700006
XMax: -46.6254559685
YMax: -22.292100071300002
Spatial Reference: 4674
(4674)
Full Extent:
XMin: -47.5629690317
YMin: -23.250435961700006
XMax: -46.6254559685
YMax: -22.292100071300002
Spatial Reference: 4674
(4674)
Pixel Size X: 4.0152000000000035E-6
Pixel Size Y: 4.015200000000018E-6
Band Count: 1
Pixel Type: U8
RasterFunction Infos: N/A
Mensuration Capabilities: None,Basic
Has Histograms: true
Has Colormap: false
Min Scale: 0
Max Scale: 0
Copyright Text:
Service Data Type: esriImageServiceDataTypeGeneric
Min Values: 0
Max Values: 255
Mean Values: 232.95370256526948
Standard Deviation Values: 46.34867405116045
Object ID Field: OBJECTID
Fields:
-
OBJECTID
(
type: esriFieldTypeOID
, alias: OBJECTID
)
-
Shape
(
type: esriFieldTypeGeometry
, alias: Shape
)
-
Name
(
type: esriFieldTypeString
, alias: Name
, length: 50
)
-
MinPS
(
type: esriFieldTypeDouble
, alias: MinPS
)
-
MaxPS
(
type: esriFieldTypeDouble
, alias: MaxPS
)
-
LowPS
(
type: esriFieldTypeDouble
, alias: LowPS
)
-
HighPS
(
type: esriFieldTypeDouble
, alias: HighPS
)
-
Category
(
type: esriFieldTypeInteger
, alias: Category
, Coded Values:
[0: Unknown]
, [1: Primary]
, [2: Overview]
, ...5 more...
)
-
Tag
(
type: esriFieldTypeString
, alias: Tag
, length: 20
)
-
GroupName
(
type: esriFieldTypeString
, alias: GroupName
, length: 50
)
-
ProductName
(
type: esriFieldTypeString
, alias: ProductName
, length: 50
)
-
CenterX
(
type: esriFieldTypeDouble
, alias: CenterX
)
-
CenterY
(
type: esriFieldTypeDouble
, alias: CenterY
)
-
ZOrder
(
type: esriFieldTypeInteger
, alias: ZOrder
)
-
Shape_Length
(
type: esriFieldTypeDouble
, alias: Shape_Length
)
-
Shape_Area
(
type: esriFieldTypeDouble
, alias: Shape_Area
)
Raster Attribute Table: false
Default Mosaic Method: Northwest
Allowed Mosaic Methods: NorthWest,Center,LockRaster,ByAttribute,Nadir,Viewpoint,Seamline,None
SortField:
SortValue: null
Mosaic Operator: First
Default Compression Quality: 75
Default Resampling Method: Bilinear
Max Record Count: 1000
Max Image Height: 4100
Max Image Width: 15000
Max Download Image Count: 20
Max Mosaic Image Count: 20
Allow Raster Function: true
Raster Type Infos:
Name: Raster Dataset
Description: Supports all ArcGIS Raster Datasets
Help:
Has Raster Attribute Table: false
Edit Fields Info: null
Ownership Based AccessControl For Rasters: null
Child Resources:
Info
Histograms
Key Properties
Supported Operations:
Export Image
Query
Identify
Measure
Compute Histograms