View In:
ArcGIS JavaScript
ArcGIS.com Map
Google Earth
ArcMap
View Footprint In:
ArcGIS.com Map
Service Description: fotoindice voo projeto 22 municipios o291 escala 1 45.000
Name: IGC/GEOPORTAL_FOTOIND_PC_22Mun_o291_1977_45k
Description: fotoindice voo projeto 22 municipios o291 escala 1 45.000
Single Fused Map Cache: false
Extent:
XMin: -49.550080994124414
YMin: -24.048754061344123
XMax: -47.43416199412442
YMax: -22.55956806134413
Spatial Reference: 4674
(4674)
Initial Extent:
XMin: -49.550080994124414
YMin: -24.048754061344123
XMax: -47.43416199412442
YMax: -22.55956806134413
Spatial Reference: 4674
(4674)
Full Extent:
XMin: -49.550080994124414
YMin: -24.048754061344123
XMax: -47.43416199412442
YMax: -22.55956806134413
Spatial Reference: 4674
(4674)
Pixel Size X: 8.299999999999965E-5
Pixel Size Y: 8.29999999999996E-5
Band Count: 3
Pixel Type: U8
RasterFunction Infos: N/A
Mensuration Capabilities: None
Has Histograms: true
Has Colormap: false
Min Scale: 0
Max Scale: 0
Copyright Text: igcsp
Service Data Type: esriImageServiceDataTypeRGB
Min Values: 0, 0, 0
Max Values: 245, 238, 226
Mean Values: 151.69699950122126, 143.74279253023334, 130.3324342856075
Standard Deviation Values: 52.266670198216225, 49.825607701640706, 45.32055612811855
Object ID Field: OBJECTID
Fields:
-
OBJECTID
(
type: esriFieldTypeOID
, alias: OBJECTID
)
-
Shape
(
type: esriFieldTypeGeometry
, alias: Shape
)
-
Name
(
type: esriFieldTypeString
, alias: Name
, length: 200
)
-
MinPS
(
type: esriFieldTypeDouble
, alias: MinPS
)
-
MaxPS
(
type: esriFieldTypeDouble
, alias: MaxPS
)
-
LowPS
(
type: esriFieldTypeDouble
, alias: LowPS
)
-
HighPS
(
type: esriFieldTypeDouble
, alias: HighPS
)
-
Category
(
type: esriFieldTypeInteger
, alias: Category
, Coded Values:
[0: Unknown]
, [1: Primary]
, [2: Overview]
, ...5 more...
)
-
Tag
(
type: esriFieldTypeString
, alias: Tag
, length: 100
)
-
GroupName
(
type: esriFieldTypeString
, alias: GroupName
, length: 100
)
-
ProductName
(
type: esriFieldTypeString
, alias: ProductName
, length: 100
)
-
CenterX
(
type: esriFieldTypeDouble
, alias: CenterX
)
-
CenterY
(
type: esriFieldTypeDouble
, alias: CenterY
)
-
ZOrder
(
type: esriFieldTypeInteger
, alias: ZOrder
)
-
Shape_Length
(
type: esriFieldTypeDouble
, alias: Shape_Length
)
-
Shape_Area
(
type: esriFieldTypeDouble
, alias: Shape_Area
)
Raster Attribute Table: false
Default Mosaic Method: Northwest
Allowed Mosaic Methods: NorthWest,Center,LockRaster,ByAttribute,Nadir,Viewpoint,Seamline,None
SortField:
SortValue: null
Mosaic Operator: First
Default Compression Quality: 75
Default Resampling Method: Bilinear
Max Record Count: 1000
Max Image Height: 4100
Max Image Width: 15000
Max Download Image Count: 20
Max Mosaic Image Count: 20
Allow Raster Function: true
Raster Type Infos:
Name: Raster Dataset
Description: Supports all ArcGIS Raster Datasets
Help:
Has Raster Attribute Table: false
Edit Fields Info: null
Ownership Based AccessControl For Rasters: null
Child Resources:
Info
Histograms
Key Properties
Supported Operations:
Export Image
Query
Identify
Compute Histograms